BEGIN:VCALENDAR
VERSION:2.0
PRODID:-//hacksw/handcal//NONSGML v1.0//EN
BEGIN:VEVENT
SUMMARY:Anniversaire
UID:cbc3631b-381e-475b-b8d9-bf0dead5a735
DTSTART:20260625T153000Z
DTEND:20260625T163000Z
LOCATION:Localisation   
CATEGORIES:Festif
STATUS:
URL;VALUE=URI:https://bcsl.club.ffbridge.fr/evenements/2026/06/25/anniversaire-2430540
END:VEVENT
END:VCALENDAR
